BEGIN:VCALENDAR
VERSION:2.0
PRODID:-//Kreisturnverband Steinburg e.V. - ECPv6.15.20//NONSGML v1.0//EN
CALSCALE:GREGORIAN
METHOD:PUBLISH
X-WR-CALNAME:Kreisturnverband Steinburg e.V.
X-ORIGINAL-URL:https://ktv-steinburg.de
X-WR-CALDESC:Veranstaltungen für Kreisturnverband Steinburg e.V.
REFRESH-INTERVAL;VALUE=DURATION:PT1H
X-Robots-Tag:noindex
X-PUBLISHED-TTL:PT1H
BEGIN:VTIMEZONE
TZID:Europe/Berlin
BEGIN:DAYLIGHT
TZOFFSETFROM:+0100
TZOFFSETTO:+0200
TZNAME:CEST
DTSTART:20250330T010000
END:DAYLIGHT
BEGIN:STANDARD
TZOFFSETFROM:+0200
TZOFFSETTO:+0100
TZNAME:CET
DTSTART:20251026T010000
END:STANDARD
BEGIN:DAYLIGHT
TZOFFSETFROM:+0100
TZOFFSETTO:+0200
TZNAME:CEST
DTSTART:20260329T010000
END:DAYLIGHT
BEGIN:STANDARD
TZOFFSETFROM:+0200
TZOFFSETTO:+0100
TZNAME:CET
DTSTART:20261025T010000
END:STANDARD
BEGIN:DAYLIGHT
TZOFFSETFROM:+0100
TZOFFSETTO:+0200
TZNAME:CEST
DTSTART:20270328T010000
END:DAYLIGHT
BEGIN:STANDARD
TZOFFSETFROM:+0200
TZOFFSETTO:+0100
TZNAME:CET
DTSTART:20271031T010000
END:STANDARD
BEGIN:DAYLIGHT
TZOFFSETFROM:+0100
TZOFFSETTO:+0200
TZNAME:CEST
DTSTART:20280326T010000
END:DAYLIGHT
BEGIN:STANDARD
TZOFFSETFROM:+0200
TZOFFSETTO:+0100
TZNAME:CET
DTSTART:20281029T010000
END:STANDARD
END:VTIMEZONE
BEGIN:VEVENT
DTSTART;VALUE=DATE:20260425
DTEND;VALUE=DATE:20260426
DTSTAMP:20260421T115758
CREATED:20251214T080636Z
LAST-MODIFIED:20251214T080636Z
UID:1602-1777075200-1777161599@ktv-steinburg.de
SUMMARY:Landesturntag SHTV
DESCRIPTION:9:30 bis ca. 12:30 Uhr; Treffen der Delegierten\naller angeschlossenen Turnvereine des SHTV\nBürgersaal\, Trappenkamp
URL:https://ktv-steinburg.de/event/landesturntag-shtv-2/
END:VEVENT
BEGIN:VEVENT
DTSTART;VALUE=DATE:20260426
DTEND;VALUE=DATE:20260427
DTSTAMP:20260421T115758
CREATED:20250327T193723Z
LAST-MODIFIED:20250327T193723Z
UID:1318-1777161600-1777247999@ktv-steinburg.de
SUMMARY:Landesturntag in Trappenkamp
DESCRIPTION:
URL:https://ktv-steinburg.de/event/landesturntag-in-trappenkamp/
END:VEVENT
BEGIN:VEVENT
DTSTART;VALUE=DATE:20260613
DTEND;VALUE=DATE:20260614
DTSTAMP:20260421T115758
CREATED:20251214T080703Z
LAST-MODIFIED:20251214T080703Z
UID:1604-1781308800-1781395199@ktv-steinburg.de
SUMMARY:Kreismeisterschaften in Glückstadt
DESCRIPTION:Leistungsturnerinnen messen sich an vier\nGeräten.\n10:00 – 15:00 Uhr\, Fortuna Halle\,\nAdmiralsweg\, Glückstadt
URL:https://ktv-steinburg.de/event/kreismeisterschaften-in-glueckstadt-2/
END:VEVENT
BEGIN:VEVENT
DTSTART;VALUE=DATE:20260627
DTEND;VALUE=DATE:20260628
DTSTAMP:20260421T115758
CREATED:20251214T080725Z
LAST-MODIFIED:20251214T080725Z
UID:1606-1782518400-1782604799@ktv-steinburg.de
SUMMARY:Landesmeisterschaft Einzel wbl. P-Stufen
DESCRIPTION:Ort: N.N.
URL:https://ktv-steinburg.de/event/landesmeisterschaft-einzel-wbl-p-stufen/
END:VEVENT
BEGIN:VEVENT
DTSTART;VALUE=DATE:20260628
DTEND;VALUE=DATE:20260629
DTSTAMP:20260421T115758
CREATED:20250917T042944Z
LAST-MODIFIED:20250917T042944Z
UID:1574-1782604800-1782691199@ktv-steinburg.de
SUMMARY:Kreiskinderturnfest in Schenefeld
DESCRIPTION:
URL:https://ktv-steinburg.de/event/kreiskinderturnfest-in-schenefeld/
LOCATION:Schenefeld\, Kreis Steinburg
END:VEVENT
BEGIN:VEVENT
DTSTART;VALUE=DATE:20260628
DTEND;VALUE=DATE:20260629
DTSTAMP:20260421T115758
CREATED:20251214T080812Z
LAST-MODIFIED:20251214T080812Z
UID:1608-1782604800-1782691199@ktv-steinburg.de
SUMMARY:Kreiskinderturnfest in Schenefeld
DESCRIPTION:Die Breitensportveranstaltung des Jahres.\n4 bis 14-Jährige kämpfen in Leichtathletik und\nTurnen um Urkunden und Medaillen.\nHalle und Sportplatz\, Schenefeld\nPostmeister-Stammer-Weg 1\nKampfrichterschulung am Wettkampftag
URL:https://ktv-steinburg.de/event/kreiskinderturnfest-in-schenefeld-2/
END:VEVENT
BEGIN:VEVENT
DTSTART;VALUE=DATE:20261121
DTEND;VALUE=DATE:20261122
DTSTAMP:20260421T115758
CREATED:20251214T080908Z
LAST-MODIFIED:20260213T180337Z
UID:1610-1795219200-1795305599@ktv-steinburg.de
SUMMARY:Bewegungscoach im Eltern-Kind-Turnen
DESCRIPTION:9:30 – 17:00 Uhr\nSporthalle Wacken\, Bokelrehmer Straße \nAnmeldung hier… \nAnschlusstermin Bewegungscoach:\n30. Januar 2027(!)\nBeim Kreisturnverband Pinneberg
URL:https://ktv-steinburg.de/event/bewegungscoach-im-eltern-kind-turnen/
END:VEVENT
BEGIN:VEVENT
DTSTART;VALUE=DATE:20270129
DTEND;VALUE=DATE:20270130
DTSTAMP:20260421T115758
CREATED:20260125T155954Z
LAST-MODIFIED:20260125T155954Z
UID:1639-1801180800-1801267199@ktv-steinburg.de
SUMMARY:Feuerwerk der Turnkunst
DESCRIPTION:
URL:https://ktv-steinburg.de/event/feuerwerk-der-turnkunst/
END:VEVENT
BEGIN:VEVENT
DTSTART;VALUE=DATE:20270130
DTEND;VALUE=DATE:20270131
DTSTAMP:20260421T115758
CREATED:20251214T080935Z
LAST-MODIFIED:20251214T080935Z
UID:1612-1801267200-1801353599@ktv-steinburg.de
SUMMARY:Anschlusstermin Bewegungscoach
DESCRIPTION:Beim Kreisturnverband Pinneberg
URL:https://ktv-steinburg.de/event/anschlusstermin-bewegungscoach/
END:VEVENT
END:VCALENDAR